BEGIN:VCALENDAR
VERSION:2.0
PRODID:-//Café Chulo - ECPv6.15.20//NONSGML v1.0//EN
CALSCALE:GREGORIAN
METHOD:PUBLISH
X-ORIGINAL-URL:https://cafechulo.fr
X-WR-CALDESC:Évènements pour Café Chulo
REFRESH-INTERVAL;VALUE=DURATION:PT1H
X-Robots-Tag:noindex
X-PUBLISHED-TTL:PT1H
BEGIN:VTIMEZONE
TZID:Europe/Paris
BEGIN:DAYLIGHT
TZOFFSETFROM:+0100
TZOFFSETTO:+0200
TZNAME:CEST
DTSTART:20250330T010000
END:DAYLIGHT
BEGIN:STANDARD
TZOFFSETFROM:+0200
TZOFFSETTO:+0100
TZNAME:CET
DTSTART:20251026T010000
END:STANDARD
BEGIN:DAYLIGHT
TZOFFSETFROM:+0100
TZOFFSETTO:+0200
TZNAME:CEST
DTSTART:20260329T010000
END:DAYLIGHT
BEGIN:STANDARD
TZOFFSETFROM:+0200
TZOFFSETTO:+0100
TZNAME:CET
DTSTART:20261025T010000
END:STANDARD
BEGIN:DAYLIGHT
TZOFFSETFROM:+0100
TZOFFSETTO:+0200
TZNAME:CEST
DTSTART:20270328T010000
END:DAYLIGHT
BEGIN:STANDARD
TZOFFSETFROM:+0200
TZOFFSETTO:+0100
TZNAME:CET
DTSTART:20271031T010000
END:STANDARD
END:VTIMEZONE
BEGIN:VEVENT
DTSTART;VALUE=DATE:20260421
DTEND;VALUE=DATE:20260425
DTSTAMP:20260419T214207
CREATED:20260418T200007Z
LAST-MODIFIED:20260418T200130Z
UID:30737-1776751200-1777010399@cafechulo.fr
SUMMARY:Mountain Planet
DESCRIPTION:Boutique exceptionnellement fermée les mercredi 22 et jeudi 23 avril. \nPlus d’infos sur notre billet de blog: https://cafechulo.fr/2026/02/18/mountain-planet-2026/
URL:https://cafechulo.fr/evenement/mountain-planet/
LOCATION:AlpExpo\, Avenue d’Innsbruck\, GRENOBLE\, 38100\, France
CATEGORIES:Salon
ATTACH;FMTTYPE=image/jpeg:https://cafechulo.fr/wp-content/uploads/2026/02/1000x1000_pave-bleu-FR-MP26.jpg
END:VEVENT
END:VCALENDAR